BEGIN:VCALENDAR
VERSION:2.0
PRODID:-//eventon.com NONSGML v1.0//EN
CALSCALE:GREGORIAN
METHOD:PUBLISH
BEGIN:VEVENT
UID:69e9f10827659
DTSTAMP:20260423T101432Z
DTSTART:20240521T170000Z
DTEND:20240521T180000Z
LOCATION:https://www.gathering4gardner.org/category/com-virtual-events/
SUMMARY:G4G's Virtual Celebration of Mind | May2024
DESCRIPTION:How to read Gödel\,  Escher Bach When Martin Gardner stopped w
 riting his monthly Mathematical Games column for Scientific American in 198
 1\,  his successor was Douglas Hofstadter\,  who is an AI researcher at Ind
 iana University and author of the Pulitzer-Prize-winning book Gödel\,  Esc
 her\,  Bach. I met Doug in 1975 at Stanford[..]\nhttps://www.gathering4gard
 ner.org/events/g4gs-virtual-celebration-of-mind-may-2/var/event_access
URL:https://www.gathering4gardner.org/events/g4gs-virtual-celebration-of-mind-may-2/var/event_access
END:VEVENT
END:VCALENDAR