BEGIN:VCALENDAR
VERSION:2.0
PRODID:-//eventon.com NONSGML v1.0//EN
CALSCALE:GREGORIAN
METHOD:PUBLISH
BEGIN:VEVENT
UID:69ecef286fd2f
DTSTAMP:20260425T164320Z
DTSTART:20161027T223000Z
DTEND:20161028T003000Z
LOCATION:Christman Pavilion\,  David A. Straz Jr. Center for the Natural and Social Sciences 2001 Alford Park Drive	Wisconsin	53140
SUMMARY:Carthage College Celebration of Mind
DESCRIPTION:The Psi Chi Honors Society and the Department of Psychological 
 Science are pleased to present the second annual Martin Gardner Celebration
  of Mind at Carthage. The event will begin with brief presentations on topi
 cs related to Martin Gardner&#8217;s interests. This year&#8217;s speakers 
 will include: Anthony Barnhart (Department of Psychological Science)\, [..]
 \nhttps://www.gathering4gardner.org/events/carthage-college-celebration-of-
 mind-2/
URL:https://www.gathering4gardner.org/events/carthage-college-celebration-of-mind-2/
END:VEVENT
END:VCALENDAR