BEGIN:VCALENDAR
VERSION:2.0
PRODID:-//eventon.com NONSGML v1.0//EN
CALSCALE:GREGORIAN
METHOD:PUBLISH
BEGIN:VEVENT
UID:69ed05b5e9017
DTSTAMP:20260425T181933Z
DTSTART:20161019T000000Z
DTEND:20161019T020000Z
LOCATION:Cafe Gioia 126A Norton St\,  Leichhardt NSW 2040\,  Australia
SUMMARY:Sydney MathsJam
DESCRIPTION:MathsJams meet at 7:00 on the second-last Tuesday of the month 
 for an informal sharing of puzzles and games. Each month one group contribu
 tes a page of activities\,  and in October the theme will be Martin Gardner
 . If you plan to attend the Sydney MathsJam your MUST RSVP the convener[..]
 \nhttps://www.gathering4gardner.org/events/sydney-mathsjam/
URL:https://www.gathering4gardner.org/events/sydney-mathsjam/
END:VEVENT
END:VCALENDAR