BEGIN:VCALENDAR
VERSION:2.0
PRODID:-//eventon.com NONSGML v1.0//EN
CALSCALE:GREGORIAN
METHOD:PUBLISH
BEGIN:VEVENT
UID:69ecef2da6f6e
DTSTAMP:20260425T164325Z
DTSTART:20161019T170000Z
DTEND:20161019T220000Z
LOCATION:Inner West Womens Shed Inner West Womens Shed. Seaview hall\,  Seaview Street Dulwich Hill NSW
SUMMARY:Mobius Magic in Paper & Felt
DESCRIPTION:Mobius Magic in Paper &#038; Felt\nhttps://www.gathering4gardne
 r.org/events/mobius-magic-in-paper-felt/
URL:https://www.gathering4gardner.org/events/mobius-magic-in-paper-felt/
END:VEVENT
END:VCALENDAR