BEGIN:VCALENDAR
VERSION:2.0
PRODID:-//eventon.com NONSGML v1.0//EN
CALSCALE:GREGORIAN
METHOD:PUBLISH
BEGIN:VEVENT
UID:69eceeb860dd7
DTSTAMP:20260425T164128Z
DTSTART:20161023T220000Z
DTEND:20161024T020000Z
LOCATION:Lower Manhattan New York\,  NY\,  US
SUMMARY:Manhattan G4G-COM\,  Sunday October 23rd
DESCRIPTION:We&#8217;re planning this year&#8217;s Gathering for Gardner di
 nner for Sunday\,  October 23rd\,  starting at 5:00pm. It will be in lower 
 Manhattan. If you are interested in attending\,  please email bvk@pobox.com
 \nhttps://www.gathering4gardner.org/events/manhattan-g4g-com-sunday-october
 -23rd/
URL:https://www.gathering4gardner.org/events/manhattan-g4g-com-sunday-october-23rd/
END:VEVENT
END:VCALENDAR