BEGIN:VCALENDAR
VERSION:2.0
PRODID:-//eventon.com NONSGML v1.0//EN
CALSCALE:GREGORIAN
METHOD:PUBLISH
BEGIN:VEVENT
UID:69ecef197fa7f
DTSTAMP:20260425T164305Z
DTSTART:20161022T230000Z
DTEND:20161023T020000Z
LOCATION:Atlanta\,  GA Atlanta\,  GA
SUMMARY:Celebration of Mind
DESCRIPTION:Intimate gathering of Gardner fans to share puzzles\,  tricks\,
   books and stories\nhttps://www.gathering4gardner.org/events/celebration-o
 f-mind-3/
URL:https://www.gathering4gardner.org/events/celebration-of-mind-3/
END:VEVENT
END:VCALENDAR