BEGIN:VCALENDAR
VERSION:2.0
PRODID:-//eventon.com NONSGML v1.0//EN
CALSCALE:GREGORIAN
METHOD:PUBLISH
BEGIN:VEVENT
UID:69e31bcfdce36
DTSTAMP:20260418T055111Z
DTSTART:20161101T230000Z
DTEND:20161102T003000Z
LOCATION:Mathematical Association of America Carriage House 1529 18th St NW\,  Washington\,  DC 20036\,  USA
SUMMARY:Algorithmic Puzzles at the MAA Carriage House
DESCRIPTION:Professor Dana Richards of George Mason University lecture on a
 lgorithmic puzzles followed by hands on puzzles provided by Bill Ritchie of
  ThinkFun.\nhttps://www.gathering4gardner.org/events/algorithmic-puzzles-at
 -the-maa-carriage-house/
URL:https://www.gathering4gardner.org/events/algorithmic-puzzles-at-the-maa-carriage-house/
END:VEVENT
END:VCALENDAR