BEGIN:VCALENDAR
VERSION:2.0
PRODID:-//eventon.com NONSGML v1.0//EN
CALSCALE:GREGORIAN
METHOD:PUBLISH
BEGIN:VEVENT
UID:69ecef23765d9
DTSTAMP:20260425T164315Z
DTSTART:20161029T140000Z
DTEND:20161029T190000Z
LOCATION:Odenville Middle School 1st Ave\,  Odenville\,  AL 35120\,  USA
SUMMARY:Celebration of Mind - Odenville Middle School
DESCRIPTION:&#8220;Jim Wilder Jordan Ciniglio Odenville Middle School 100 F
 irst Avenue Odenville\,  AL 35120 Oct 29\,  2016 9am-2pm Must email hosts t
 o attend&#8230; we are inside a building away from the main entrance. We ar
 e assembling a superhero/villain with square Post-it notes. &#8220;\nhttps:
 //www.gathering4gardner.org/events/celebration-of-mind-odenville-middle-sch
 ool/
URL:https://www.gathering4gardner.org/events/celebration-of-mind-odenville-middle-school/
END:VEVENT
END:VCALENDAR