BEGIN:VCALENDAR
VERSION:2.0
PRODID:-//eventon.com NONSGML v1.0//EN
CALSCALE:GREGORIAN
METHOD:PUBLISH
BEGIN:VEVENT
UID:69ecef334fd3b
DTSTAMP:20260425T164331Z
DTSTART:20161026T230000Z
DTEND:20161027T010000Z
LOCATION:Stella May Swartz School 17 W. 160 16th Street	Chicago	IL	60181	US
SUMMARY:Salt Creek School District 48 Celebration of Mind
DESCRIPTION:Math\,  Puzzles and Magic! Hexaflexagons\,  Mobius strips\,  To
 wers of Hanoi\,  Zome constructions\,  brainteasers\,  games and challenges
 .\nhttps://www.gathering4gardner.org/events/salt-creek-school-district-48-c
 elebration-of-mind/
URL:https://www.gathering4gardner.org/events/salt-creek-school-district-48-celebration-of-mind/
END:VEVENT
END:VCALENDAR