BEGIN:VCALENDAR
VERSION:2.0
PRODID:-//eventon.com NONSGML v1.0//EN
CALSCALE:GREGORIAN
METHOD:PUBLISH
BEGIN:VEVENT
UID:69eceec727984
DTSTAMP:20260425T164143Z
DTSTART:20161023T170000Z
DTEND:20161023T210000Z
LOCATION:Botanic Gardens Dublin Botanic Gardens Dublin
SUMMARY:Maths Week Ireland Celebration of Mind at the National Botanic Gardens Dublin
DESCRIPTION:As part of Maths Week Ireland 2016\,  we are joining with the N
 ational Botanic Gardens \,  Dublin Halloween festival for a Celebration of 
 Mind event. There will be games\,  puzzles \,  building giant balloon mathe
 matical structures- something for all the family\nhttps://www.gathering4gar
 dner.org/events/maths-week-ireland-celebration-of-mind-at-the-national-bota
 nic-gardens-dublin/
URL:https://www.gathering4gardner.org/events/maths-week-ireland-celebration-of-mind-at-the-national-botanic-gardens-dublin/
END:VEVENT
END:VCALENDAR