BEGIN:VCALENDAR
VERSION:2.0
PRODID:-//eventon.com NONSGML v1.0//EN
CALSCALE:GREGORIAN
METHOD:PUBLISH
BEGIN:VEVENT
UID:69ecef0f4943a
DTSTAMP:20260425T164255Z
DTSTART:20161023T180000Z
DTEND:20161023T210000Z
LOCATION:Mathematical Sciences Research Institute 17 Gauss Way\,  Berkeley\,  CA 94720
SUMMARY:Celebration of Mind at MSRI
DESCRIPTION:Sunday\,  October 23\,  2016 from 1:00-4:00 p.m. Mathematical S
 ciences Research Institute (MSRI) 17 Gauss Way\,  Berkeley\,  CA 94720 (htt
 ps://goo.gl/maps/2mwb9c5MbW72) Come celebrate math withpuzzles\,  games\,  
 magic\,  stories\, and more!Kids ages 8 and up\, and grown-ups who are kids
  at heart\,  will enjoy this afternoon filled withhands-on math activities.
 This event honors the life and[..]\nhttps://www.gathering4gardner.org/event
 s/celebration-of-mind-at-msri-2/
URL:https://www.gathering4gardner.org/events/celebration-of-mind-at-msri-2/
END:VEVENT
END:VCALENDAR