BEGIN:VCALENDAR
VERSION:2.0
PRODID:-//eventon.com NONSGML v1.0//EN
CALSCALE:GREGORIAN
METHOD:PUBLISH
BEGIN:VEVENT
UID:69ecef1e2e338
DTSTAMP:20260425T164310Z
DTSTART:20161026T180000Z
DTEND:20161027T010000Z
LOCATION:7 Roanoke Rd. 7 Roanoke Rd.
SUMMARY:Puzzles with squares.
DESCRIPTION:Celebrating Martin gardner with puzzles and Math Diversions.\nh
 ttps://www.gathering4gardner.org/events/puzzles-with-squares/
URL:https://www.gathering4gardner.org/events/puzzles-with-squares/
END:VEVENT
END:VCALENDAR