BEGIN:VCALENDAR
VERSION:2.0
PRODID:-//eventon.com NONSGML v1.0//EN
CALSCALE:GREGORIAN
METHOD:PUBLISH
BEGIN:VEVENT
UID:69ed2167c23f1
DTSTAMP:20260425T201743Z
DTSTART:20161027T220000Z
DTEND:20161028T020000Z
LOCATION:Davidson Institute of Science Education Hertzl 234	REHOVOT	7610001	Israel
SUMMARY:Israel Celebration of Mind
DESCRIPTION:The Israeli Celebration of Mind will take place at the Davidson
  Institute of Science Education on the premises of the Weizmann Institute o
 f Science. Recreational math\,  puzzles and games enthusiasts are invited t
 o an informal meeting with lots of puzzles\,  a lecture on Martin Gardner a
 nd his legacy\,  and the[..]\nhttps://www.gathering4gardner.org/events/isra
 el-celebration-of-mind/
URL:https://www.gathering4gardner.org/events/israel-celebration-of-mind/
END:VEVENT
END:VCALENDAR