BEGIN:VCALENDAR
VERSION:2.0
PRODID:-//eventon.com NONSGML v1.0//EN
CALSCALE:GREGORIAN
METHOD:PUBLISH
BEGIN:VEVENT
UID:69e9d915b63db
DTSTAMP:20260423T083221Z
DTSTART:20181020T150000Z
DTEND:20181020T160000Z
LOCATION:St. Mary's College of Maryland St. Mary's College of Maryland\,  St. Mary's City\,  MD\,  USA
SUMMARY:Southern Maryland Celebration of Mind
DESCRIPTION:&#8220;In celebration of mathematician Martin Gardner&#8217;s 1
 04th birthday\,  we will play with some intriguing mathematical puzzles\,  
 games\,  and other recreations. As in Gardner&#8217;s popular and long-runn
 ing column in Scientific American\,  the subjects of our explorations will 
 be accessible to anyone with curiosity and a spirit of discovery\,  regardl
 ess of prior[..]\nhttps://www.gathering4gardner.org/events/southern-marylan
 d-celebration-of-mind-2/
URL:https://www.gathering4gardner.org/events/southern-maryland-celebration-of-mind-2/
END:VEVENT
END:VCALENDAR