BEGIN:VCALENDAR
VERSION:2.0
PRODID:-//eventon.com NONSGML v1.0//EN
CALSCALE:GREGORIAN
METHOD:PUBLISH
BEGIN:VEVENT
UID:69e9d867c8018
DTSTAMP:20260423T082927Z
DTSTART:20181021T230000Z
DTEND:20181022T040000Z
LOCATION:The Cottage Chinese Restaurant 33 Irving Pl New York NY\,  10003
SUMMARY:Manhattan G4G-COM
DESCRIPTION:Hello\,  fans of puzzles\,  math\,  magic\,  art\,  and interes
 ting conversation! We will be gathering at an inexpensive Chinese restauran
 t in lower Manhattan. There is no charge to attend\,  but you can buy food 
 and drink from the normal menu. You are not required to bring anything othe
 r than yourself\,  but[..]\nhttps://www.gathering4gardner.org/events/manhat
 tan-g4g-com/
URL:https://www.gathering4gardner.org/events/manhattan-g4g-com/
END:VEVENT
END:VCALENDAR