BEGIN:VCALENDAR
VERSION:2.0
PRODID:-//eventon.com NONSGML v1.0//EN
CALSCALE:GREGORIAN
METHOD:PUBLISH
BEGIN:VEVENT
UID:69e77725d64a8
DTSTAMP:20260421T130957Z
DTSTART:20181130T003000Z
DTEND:20181130T013000Z
LOCATION:Mathematical Association of America Carriage House 1529 18th St NW\,  Washington\,  DC 20036\,  USA
SUMMARY:MAA Distinguished Lecture : The Saga of the Hardest Logic Puzzle Ever
DESCRIPTION:Abstract. The hardest logic puzzle ever was introduced by philo
 sopher George Boolos in 1996. We are to imagine three gods: one who always 
 makes true statements\,  one who only makes false statements\,  and one who
  randomly answers true or false at his whim. The gods will answer any yes/n
 o question[..]\nhttps://www.gathering4gardner.org/events/maa-distinguished-
 lecture-the-saga-of-the-hardest-logic-puzzle-ever/
URL:https://www.gathering4gardner.org/events/maa-distinguished-lecture-the-saga-of-the-hardest-logic-puzzle-ever/
END:VEVENT
END:VCALENDAR