BEGIN:VCALENDAR
VERSION:2.0
PRODID:-//eventon.com NONSGML v1.0//EN
CALSCALE:GREGORIAN
METHOD:PUBLISH
BEGIN:VEVENT
UID:69e9d8b87e2eb
DTSTAMP:20260423T083048Z
DTSTART:20181028T010000Z
DTEND:20181028T040000Z
LOCATION:The Red Victorian 1665 Haight Street	California	94117	USA
SUMMARY:Sensory Tricks and Science Treats
DESCRIPTION:This is a Celebration of Mind Halloween party and fundraiser fo
 r the Paradox Lab a nonprofit startup in San Francisco with the aim of shar
 ing with kids the joys of inquiry through logic puzzles\,  illusions\,  mag
 ic tricks\,  and philosophical exploration. Tickets are $5. Available for p
 urchase through Eventbrite here: https://www.eventbrite.com/e/sensory-trick
 s-and-science-treats-tickets-50671027407[..]\nhttps://www.gathering4gardner
 .org/events/sensory-tricks-and-science-treats/
URL:https://www.gathering4gardner.org/events/sensory-tricks-and-science-treats/
END:VEVENT
END:VCALENDAR