BEGIN:VCALENDAR
VERSION:2.0
PRODID:-//eventon.com NONSGML v1.0//EN
CALSCALE:GREGORIAN
METHOD:PUBLISH
BEGIN:VEVENT
UID:69e9d8c150bfd
DTSTAMP:20260423T083057Z
DTSTART:20181106T230000Z
DTEND:20181107T010000Z
LOCATION:Universidad Complutense de Madrid Av. Seneca\,  2\,  28040 Madrid\,  Spain
SUMMARY:Celebracion del Ingenio de Martin Gardner
DESCRIPTION:ES Martin Gardner no queria que se le hicieran homenajes tras s
 u muerte\,  pero desde hace anos se viene celebrando el dia de su cumpleano
 s en multitud de lugares. El 21 de octubre Martin habria cumplido 104 anos.
  La fiesta con la que nos unimos al evento internacional Martin Gardner&#82
 17;s[..]\nhttps://www.gathering4gardner.org/events/celebracion-del-ingenio-
 de-martin-gardner/
URL:https://www.gathering4gardner.org/events/celebracion-del-ingenio-de-martin-gardner/
END:VEVENT
END:VCALENDAR