BEGIN:VCALENDAR
VERSION:2.0
PRODID:-//eventon.com NONSGML v1.0//EN
CALSCALE:GREGORIAN
METHOD:PUBLISH
BEGIN:VEVENT
UID:69e9d7c12be95
DTSTAMP:20260423T082641Z
DTSTART:20181020T180000Z
DTEND:20181020T200000Z
LOCATION:Ruch Branch of the Jackson County Library 7919 OR-238	Jacksonville	OR	97530	US	United States
SUMMARY:Celebration of Mind
DESCRIPTION:Celebrate Martin Gardner at the Ruch Community Library on Satur
 day\,  October 20th 2018 from 1-3pm. This recreational mathematician will b
 e remembered and celebrated with math puzzles\,  logic games\,  origami\,  
 card tricks\,  and plenty of fun. All ages welcome. &#8212;\nhttps://www.ga
 thering4gardner.org/events/celebration-of-mind-9/
URL:https://www.gathering4gardner.org/events/celebration-of-mind-9/
END:VEVENT
END:VCALENDAR