BEGIN:VCALENDAR
VERSION:2.0
PRODID:-//eventon.com NONSGML v1.0//EN
CALSCALE:GREGORIAN
METHOD:PUBLISH
BEGIN:VEVENT
UID:69e9ea66e26f4
DTSTAMP:20260423T094614Z
DTSTART:20181024T000000Z
DTEND:20181024T030000Z
LOCATION:Bristol Yard Bristol Yard\,  Colston Street
SUMMARY:Maths Jam
DESCRIPTION:MathsJam is a monthly opportunity for like-minded self-confesse
 d maths enthusiasts to get together in a pub and share stuff they like. Puz
 zles\,  games\,  problems\,  or just anything they think is cool or interes
 ting. We meet on the penultimate Tuesday of every month\,  from around 7pm 
 in the evening\,  at the[..]\nhttps://www.gathering4gardner.org/events/math
 s-jam/
URL:https://www.gathering4gardner.org/events/maths-jam/
END:VEVENT
END:VCALENDAR