BEGIN:VCALENDAR
VERSION:2.0
PRODID:-//eventon.com NONSGML v1.0//EN
CALSCALE:GREGORIAN
METHOD:PUBLISH
BEGIN:VEVENT
UID:69e9db2c8434c
DTSTAMP:20260423T084116Z
DTSTART:20181021T180000Z
DTEND:20181021T220000Z
LOCATION:Mathematical Sciences Research Institute 17 Gauss Way\,  Berkeley\,  CA 94720
SUMMARY:Celebration of Mind at MSRI: Math\,  Magic\,  Puzzles\,  Games
DESCRIPTION:Come celebrate math withpuzzles\,  games\,  magic\,  stories\, 
 and more!Kids ages 8 and up\, andgrown-ups who are kids at heart\,  will en
 joy this afternoon filled withhands-on math activities and presentations. T
 he event honors the life and work ofMartin Gardner\, former Scientific Amer
 ican columnist who inspired a generation of mathematicians and recreational
  math enthusiasts. In[..]\nhttps://www.gathering4gardner.org/events/celebra
 tion-of-mind-at-msri-math-magic-puzzles-games/
URL:https://www.gathering4gardner.org/events/celebration-of-mind-at-msri-math-magic-puzzles-games/
END:VEVENT
END:VCALENDAR