BEGIN:VCALENDAR
VERSION:2.0
PRODID:-//eventon.com NONSGML v1.0//EN
CALSCALE:GREGORIAN
METHOD:PUBLISH
BEGIN:VEVENT
UID:69e9d823317eb
DTSTAMP:20260423T082819Z
DTSTART:20181024T000000Z
DTEND:20181024T000000Z
LOCATION:Clocktower Brew Pub Westboro West Dunedin and High Street	Columbus
SUMMARY:Ottawa Mathsjam
DESCRIPTION:MathsJam is a monthly opportunity for like-minded self-confesse
 d math enthusiasts to get together in a pub and share stuff they life. Puzz
 les\,  games\,  problems\,  or just anything they think is cool or interest
 ing. This month\,  join us at the Clocktower Brew Pub in Westboro at 7pm fo
 r a night of[..]\nhttps://www.gathering4gardner.org/events/ottawa-mathsjam/
URL:https://www.gathering4gardner.org/events/ottawa-mathsjam/
END:VEVENT
END:VCALENDAR