BEGIN:VCALENDAR
VERSION:2.0
PRODID:-//eventon.com NONSGML v1.0//EN
CALSCALE:GREGORIAN
METHOD:PUBLISH
BEGIN:VEVENT
UID:69ec95f89dfc5
DTSTAMP:20260425T102248Z
DTSTART:20181021T003000Z
DTEND:20181021T020000Z
LOCATION:Stanford University\,  CEMEX Auditorium 655 Knight Way\,  Stanford\,  CA 94305\,  Stati Uniti
SUMMARY:Celebration of Mind; Stanford Continuing Studies Public Event
DESCRIPTION:This event is for the Stanford Continuing Studies community and
  will be a highly inspirational and lightly mathematical introduction to th
 e world of Martin Gardner through art\,  magic and mathematics. The event w
 ill include lectures by artist Alexa Meade\,  magician Mark Mitton and math
 ematician Henry Segerman. &#8212; For more information[..]\nhttps://www.gat
 hering4gardner.org/events/celebration-of-mind-stanford-continuing-studies-p
 ublic-event/
URL:https://www.gathering4gardner.org/events/celebration-of-mind-stanford-continuing-studies-public-event/
END:VEVENT
END:VCALENDAR