BEGIN:VCALENDAR
VERSION:2.0
PRODID:-//eventon.com NONSGML v1.0//EN
CALSCALE:GREGORIAN
METHOD:PUBLISH
BEGIN:VEVENT
UID:69e9efc53ad20
DTSTAMP:20260423T100909Z
DTSTART:20181020T183000Z
DTEND:20181020T213000Z
LOCATION:Stanford University\,  Cubberley Auditorium 485 Lasuen Mall	Stanford CA	94305	USA
SUMMARY:Celebration of Mind at Stanford: for the mathematically curious of all ages
DESCRIPTION:This Celebration of Mind event is designed to inspire\,  deligh
 t and spark curiosity for people of all ages. The program consists of short
  talks and activities in recreational mathematics\,  magic\,  art and puzzl
 es. This event is co-sponsored by Stanford Pre-Collegiate Studies and the J
 ulia Robinson Mathematics Festival Celebration of Mind[..]\nhttps://www.gat
 hering4gardner.org/events/celebration-of-mind-at-stanford-for-the-mathemati
 cally-curious-of-all-ages/
URL:https://www.gathering4gardner.org/events/celebration-of-mind-at-stanford-for-the-mathematically-curious-of-all-ages/
END:VEVENT
END:VCALENDAR