BEGIN:VCALENDAR
VERSION:2.0
PRODID:-//eventon.com NONSGML v1.0//EN
CALSCALE:GREGORIAN
METHOD:PUBLISH
BEGIN:VEVENT
UID:69e9d7b06e813
DTSTAMP:20260423T082624Z
DTSTART:20181025T190000Z
DTEND:20181026T010000Z
LOCATION:Mathema Trzaska c. 2\,  1000 Ljubljana\,  Slovenia
SUMMARY:Polygons\,  Polyhedra\,  Generative Art\,  MathArt\,  and Martin Gardner's Ambidextrous Universe
DESCRIPTION:Among themes of our Martin Gardner&#8217;s birthday celebration
  will be polygons\,  polyhedra\,  generative art\,  mathematical art\,  log
 ic\,  optical illusions\,  we will also feature Martin Gardner&#8217;s and 
 Raymond Smullyan&#8217;s books.\nhttps://www.gathering4gardner.org/events/p
 olygons-polyhedra-generative-art-mathart-and-martin-gardners-ambidextrous-u
 niverse/
URL:https://www.gathering4gardner.org/events/polygons-polyhedra-generative-art-mathart-and-martin-gardners-ambidextrous-universe/
END:VEVENT
END:VCALENDAR