BEGIN:VCALENDAR
VERSION:2.0
PRODID:-//eventon.com NONSGML v1.0//EN
CALSCALE:GREGORIAN
METHOD:PUBLISH
BEGIN:VEVENT
UID:69e9d7f7bb520
DTSTAMP:20260423T082735Z
DTSTART:20181022T160000Z
DTEND:20181023T230000Z
LOCATION:Universidad de Zaragoza Universidad de Zaragoza
SUMMARY:Second Zaragoza's Martin Gardner Celebration of Mind
DESCRIPTION:We will have mathematical games and magic in the Hall of the Ma
 thematics Faculty of the University of Zaaragoza. &#8212;\nhttps://www.gath
 ering4gardner.org/events/second-zaragozas-martin-gardner-celebration-of-min
 d/
URL:https://www.gathering4gardner.org/events/second-zaragozas-martin-gardner-celebration-of-mind/
END:VEVENT
END:VCALENDAR